BEGIN:VCALENDAR
VERSION:2.0
PRODID:-//Musikverein Nauort 1927 e.V. - ECPv6.15.20//NONSGML v1.0//EN
CALSCALE:GREGORIAN
METHOD:PUBLISH
X-WR-CALNAME:Musikverein Nauort 1927 e.V.
X-ORIGINAL-URL:https://mvnauort.de
X-WR-CALDESC:Veranstaltungen für Musikverein Nauort 1927 e.V.
REFRESH-INTERVAL;VALUE=DURATION:PT1H
X-Robots-Tag:noindex
X-PUBLISHED-TTL:PT1H
BEGIN:VTIMEZONE
TZID:Europe/Berlin
BEGIN:DAYLIGHT
TZOFFSETFROM:+0100
TZOFFSETTO:+0200
TZNAME:CEST
DTSTART:20210328T010000
END:DAYLIGHT
BEGIN:STANDARD
TZOFFSETFROM:+0200
TZOFFSETTO:+0100
TZNAME:CET
DTSTART:20211031T010000
END:STANDARD
BEGIN:DAYLIGHT
TZOFFSETFROM:+0100
TZOFFSETTO:+0200
TZNAME:CEST
DTSTART:20220327T010000
END:DAYLIGHT
BEGIN:STANDARD
TZOFFSETFROM:+0200
TZOFFSETTO:+0100
TZNAME:CET
DTSTART:20221030T010000
END:STANDARD
BEGIN:DAYLIGHT
TZOFFSETFROM:+0100
TZOFFSETTO:+0200
TZNAME:CEST
DTSTART:20230326T010000
END:DAYLIGHT
BEGIN:STANDARD
TZOFFSETFROM:+0200
TZOFFSETTO:+0100
TZNAME:CET
DTSTART:20231029T010000
END:STANDARD
END:VTIMEZONE
BEGIN:VEVENT
DTSTART;TZID=Europe/Berlin:20220526T140000
DTEND;TZID=Europe/Berlin:20220526T153000
DTSTAMP:20260425T123740
CREATED:20220511T182448Z
LAST-MODIFIED:20220511T182448Z
UID:2170-1653573600-1653579000@mvnauort.de
SUMMARY:Vatertag an der Wagenbauhalle
DESCRIPTION:Am Vatertag\, den 26.05.2022\, werden wir ein Platzkonzert an der Wagenbauhalle der Karnevalsvereinigung Nauort spielen. Um 14 Uhr geht es los. Für das leibliche Wohl ist bestens gesorgt!
URL:https://mvnauort.de/event/vatertag-an-der-wagenbauhalle/
LOCATION:Wagenbauhalle KVN\, Schäfersheide\, Nauort\, Rheinland-Pfalz\, 56237\, Deutschland
CATEGORIES:Platzkonzert
END:VEVENT
END:VCALENDAR